BEGIN:VCALENDAR
VERSION:2.0
PRODID:spatie/icalendar-generator
DESCRIPTION:Events from Alma de Mujer
X-WR-CALDESC:Events from Alma de Mujer
REFRESH-INTERVAL;VALUE=DURATION:PT1440M
X-PUBLISHED-TTL:PT1440M
BEGIN:VTIMEZONE
TZID:Etc/GMT+0
BEGIN:STANDARD
DTSTART:20250831T190000Z
TZOFFSETFROM:+0000
TZOFFSETTO:+0000
END:STANDARD
END:VTIMEZONE
BEGIN:VTIMEZONE
TZID:UTC
BEGIN:STANDARD
DTSTART:20250729T104331Z
TZOFFSETFROM:+0000
TZOFFSETTO:+0000
END:STANDARD
END:VTIMEZONE
BEGIN:VEVENT
UID:1985-6
DTSTAMP:20260425T104331Z
SUMMARY:Clase de Yoga
LOCATION:
ORGANIZER;CN=Marta PL:MAILTO:martaperis203@gmail.com
RRULE:FREQ=WEEKLY;UNTIL=20300104T000000Z
DTSTART;TZID=Etc/GMT+0:20260528T190000
DTEND;TZID=Etc/GMT+0:20260528T200000
X-ALT-DESC;FMTTYPE=TEXT/HTML:[um_loggedin]Enlace: https://us06web.zoom.us/j
 /87853613577?pwd=jgFwdx9bB7YTykvErXvb7AlKKChP5W.1[/um_loggedin]
CATEGORIES:Clases de Yoga
URL;VALUE=URI:https://comunidadalmademujer.com/mc-events/clase-de-yoga/?mc_
 id=1985
METHOD:PUBLISH
END:VEVENT
END:VCALENDAR