BEGIN:VCALENDAR
VERSION:2.0
PRODID:spatie/icalendar-generator
DESCRIPTION:Events from Alma de Mujer
X-WR-CALDESC:Events from Alma de Mujer
REFRESH-INTERVAL;VALUE=DURATION:PT1440M
X-PUBLISHED-TTL:PT1440M
BEGIN:VTIMEZONE
TZID:Etc/GMT+0
BEGIN:STANDARD
DTSTART:20250819T000000Z
TZOFFSETFROM:+0000
TZOFFSETTO:+0000
END:STANDARD
END:VTIMEZONE
BEGIN:VTIMEZONE
TZID:UTC
BEGIN:STANDARD
DTSTART:20250729T034148Z
TZOFFSETFROM:+0000
TZOFFSETTO:+0000
END:STANDARD
END:VTIMEZONE
BEGIN:VEVENT
UID:2599-9
DTSTAMP:20260425T034148Z
SUMMARY:Evento
LOCATION:
ORGANIZER;CN=Marta PL:MAILTO:martaperis203@gmail.com
DTSTART;TZID=Etc/GMT+0;VALUE=DATE:20260516
DTEND;TZID=Etc/GMT+0;VALUE=DATE:20260517
X-ALT-DESC;FMTTYPE=TEXT/HTML:
CATEGORIES:Evento
URL;VALUE=URI:https://comunidadalmademujer.com/mc-events/evento/
METHOD:PUBLISH
END:VEVENT
END:VCALENDAR